BEGIN:VCALENDAR
VERSION:2.0
PRODID:-//hacksw/handcal//NONSGML v1.0//EN
BEGIN:VEVENT
SUMMARY:LOTO
UID:6866caf9-0068-4989-a17d-3b9b2329dc5f
DTSTART:20260408T221500Z
DTEND:20260409T190000Z
LOCATION:Localisation   
CATEGORIES:Festif
STATUS:
DESCRIPTION:<p>LOTO du FTT</p>
 
 <p>Ouverture des 20h00</p>
 
 <p>Bons
 d'achats LECLERC  + bingo</p>
 
 <p>Buvette et restauration</p>
URL;VALUE=URI:https://ftt.sportsregions.fr/evenements/2026/04/09/loto-2432595
END:VEVENT
END:VCALENDAR
