BEGIN:VCALENDAR
VERSION:2.0
PRODID:-//hacksw/handcal//NONSGML v1.0//EN
BEGIN:VEVENT
SUMMARY:Tournoi du FTT
UID:06e4eca1-48cd-469f-bec9-4c05eeac6e54
DTSTART:20260405T070000Z
DTEND:20260405T203000Z
LOCATION:Localisation   
CATEGORIES:Sportif
STATUS:
DESCRIPTION:<p>Tournoi de jeunes du FTT sur les terrains de Meauzac
 en homage a notre regrette Gerard.</p>
 
 <p>Categories concernees : U
 6 a U 11 en journee et U 12 / U 13 en semi
 nocturne.</p>
 
 <p>Animations, tombola.</p>
 
 <p>Buvette toute la
 journee</p>
 
 <p>Restauration le midi et le soir</p>
 
 <p> </p>
URL;VALUE=URI:https://ftt.sportsregions.fr/evenements/2026/04/05/tournoi-du-ftt-2432599
END:VEVENT
END:VCALENDAR
